BEGIN:VCALENDAR
VERSION:2.0
PRODID:-//wp-events-plugin.com//7.2.3.1//EN
TZID:America/New_York
X-WR-TIMEZONE:America/New_York
BEGIN:VEVENT
UID:8@gpraise.com
DTSTART;TZID=America/New_York:20240821T190000
DTEND;TZID=America/New_York:20240821T200000
DTSTAMP:20240819T150842Z
URL:https://gpraise.com/events/kids-back-to-school-party/
SUMMARY:Kid’s Back to School Party
DESCRIPTION:Kids are invited to a free 3-D art class. The class is every We
 dnesday\, 7-8 pm for 8 weeks. We will explore the basics of sculpture usin
 g wire\, clay\, paper\, mixed media\, and recycled materials. Each week we
  will emphasis a key Biblical concept such as God Created Us\, God Gave Us
  free Will. God Wants Us to Have a Relationship with Him and Jesus Came Be
 cause He Loves Us.
CATEGORIES:Community,Events,Youth
LOCATION:Forest City Baptist Church\, 721 West Lake Brantley Rd\, Altamonte
  Springs\, FL\, 32714\, United States
X-APPLE-STRUCTURED-LOCATION;VALUE=URI;X-ADDRESS=721 West Lake Brantley Rd\,
  Altamonte Springs\, FL\, 32714\, United States;X-APPLE-RADIUS=100;X-TITLE
 =Forest City Baptist Church:geo:0,0
END:VEVENT
BEGIN:VTIMEZONE
TZID:America/New_York
X-LIC-LOCATION:America/New_York
BEGIN:DAYLIGHT
DTSTART:20240310T030000
TZOFFSETFROM:-0500
TZOFFSETTO:-0400
TZNAME:EDT
END:DAYLIGHT
END:VTIMEZONE
END:VCALENDAR