BEGIN:VCALENDAR
VERSION:2.0
PRODID:-//wp-events-plugin.com//7.2.3.1//EN
TZID:America/New_York
X-WR-TIMEZONE:America/New_York
BEGIN:VEVENT
UID:12@gpraise.com
DTSTART;TZID=America/New_York:20240907T080000
DTEND;TZID=America/New_York:20240907T130000
DTSTAMP:20240819T162852Z
URL:https://gpraise.com/events/mobile-mammogram-event/
SUMMARY:Mobile Mammogram Event
DESCRIPTION:On September 7\, 2024\, the Florida Breast and Cervical Cancer 
 Program in Seminole County is hosting a Free Mobile Mammogram Event for Br
 east Cancer Screening\, located right here at the Department of Health in 
 Seminole County (400 W. Airport Blvd.\, Sanford\, FL 32773). This event is
  specifically for women aged 50 and above who do not have health insurance
 . No prescription or doctor’s referral is required. Additionally\, women
  aged 38 and above with insurance are also encouraged to participate\, as 
 all insurance types are accepted.
ATTACH;FMTTYPE=image/jpeg:https://gpraise.com/wp-content/uploads/2024/08/M
 obile-Mammogram.jpeg
CATEGORIES:Community,Events
LOCATION:Department of Health Seminole County\, 400 W. Airport Blvd.\, Sanf
 ord\, FL\, 32773\, United States
X-APPLE-STRUCTURED-LOCATION;VALUE=URI;X-ADDRESS=400 W. Airport Blvd.\, Sanf
 ord\, FL\, 32773\, United States;X-APPLE-RADIUS=100;X-TITLE=Department of 
 Health Seminole County:geo:0,0
END:VEVENT
BEGIN:VTIMEZONE
TZID:America/New_York
X-LIC-LOCATION:America/New_York
BEGIN:DAYLIGHT
DTSTART:20240310T030000
TZOFFSETFROM:-0500
TZOFFSETTO:-0400
TZNAME:EDT
END:DAYLIGHT
END:VTIMEZONE
END:VCALENDAR