BEGIN:VCALENDAR
VERSION:2.0
PRODID:-//wp-events-plugin.com//7.2.3.1//EN
TZID:America/New_York
X-WR-TIMEZONE:America/New_York
BEGIN:VEVENT
UID:344@gpraise.com
DTSTART;TZID=America/New_York:20260510T160000
DTEND;TZID=America/New_York:20260510T210000
DTSTAMP:20260422T220302Z
URL:https://gpraise.com/?post_type=event&p=124956
SUMMARY:Mother's Day Extravaganza - Lee's Production
DESCRIPTION:LEE’S PRODUCTION PROUDLY PRESENTS\n\n✨ Mother’s Day Extra
 vaganza ✨\nHosted by Emcee Overseer Ryan\n\nJoin us for a powerful celeb
 ration of mothers\, music\, and ministry!\n\n📅 Sunday\, May 10\, 2026\n
 🚪 Doors open at 3:30 PM\n🎤 Concert begins at 4:00 PM\n\n📍 Faith C
 athedral Deliverance Center\n4425 N. Powers Dr.\nOrlando\, FL 32818\nPasto
 r Reverend Richard Jones\n\n🎶 Featuring dynamic performances by:\n• T
 ony Pittman\n• The Brooklyn &amp\; Harmony Winds All Stars (Tampa\, FL)\
 n• The Original Fantastic Violinaires (Detroit\, MI)\n• Ruby &amp\; Da
  Girlz (Eufaula\, AL)\n• South FL Gospel Singers\n• Pastor Lorenzo Hop
 per &amp\; Company (Ft. Lauderdale\, FL)\n• The Orlando Brothers (Orland
 o\, FL)\n\n💃 Special guests &amp\; ministry voices across Florida\, inc
 luding Lake\, Sumter\, Polk\, and surrounding counties.\n\n🎟️ Admissi
 on:\n$30 Advance | $35 At the Door\nVIP: $50 Adults | $55\nChildren $10 at
  the door (Ages 5-10)\n\nCan send money Via Cash App $Nay1501\n\n🛍️ V
 endors welcome! (Price Ranges)\n\n($150-$250)\n\n📞 For more information
 :\nBrother Loc — 321-750-9617\nSister Eddie Ruth Jackson — 321-303-218
 7\n\nPresented in partnership with churches\, ministries\, and community l
 eaders across Central Florida.\n\nCome experience an unforgettable afterno
 on of praise\, worship\, and celebration this Mother’s Day!
ATTACH;FMTTYPE=image/jpeg:https://gpraise.com/wp-content/uploads/2026/04/i
 mage000001.jpg
CATEGORIES:Community,Concerts,Events
LOCATION:Faith Cathedral Deliverance Center\, 4425 North Powers Drive\, Orl
 ando\, Fl\, 32818\, United States
X-APPLE-STRUCTURED-LOCATION;VALUE=URI;X-ADDRESS=4425 North Powers Drive\, O
 rlando\, Fl\, 32818\, United States;X-APPLE-RADIUS=100;X-TITLE=Faith Cathe
 dral Deliverance Center:geo:0,0
END:VEVENT
BEGIN:VTIMEZONE
TZID:America/New_York
X-LIC-LOCATION:America/New_York
BEGIN:DAYLIGHT
DTSTART:20260308T030000
TZOFFSETFROM:-0500
TZOFFSETTO:-0400
TZNAME:EDT
END:DAYLIGHT
END:VTIMEZONE
END:VCALENDAR