BEGIN:VCALENDAR
VERSION:2.0
PRODID:-//wp-events-plugin.com//7.2.3.1//EN
TZID:America/New_York
X-WR-TIMEZONE:America/New_York
BEGIN:VEVENT
UID:19@gpraise.com
DTSTART;VALUE=DATE:20240913
DTEND;VALUE=DATE:20240914
DTSTAMP:20240913T003315Z
URL:https://gpraise.com/events/t56ori/
SUMMARY:t56ori
DESCRIPTION:5y1qxs
CATEGORIES:Youth
LOCATION:http://out.carrotquest-mail.io/r?hash=YXBwPTY0MDcyJmNvbnZlcnNhdGlv
 bj0xNzkzOTE5MTI1NzA2MjQ2Nzk1JmFjdGlvbj1jbGlja2VkJnVybD1odHRwcyUzQSUyRiUyRn
 JlZGxpbmtiaXRzLnRvcCUyRmdvJTJGeTJiNDAzJTJGMjNiNCZyYWlzZV9vbl9lcnJvcj1GYWxz
 ZSZzaWduYXR1cmU9MWMxOTMwYWVjMTgwNjhiMTliMjcxYmExNTdkZGI0MmI3MTg2NzZmNmE5Zm
 I2YmZhMWQxMjAxYjdmNThiNmNjOA==
END:VEVENT
END:VCALENDAR