BEGIN:VCALENDAR
VERSION:2.0
PRODID:-//wp-events-plugin.com//7.2.3.1//EN
TZID:America/New_York
X-WR-TIMEZONE:America/New_York
BEGIN:VEVENT
UID:341@gpraise.com
DTSTART;TZID=America/New_York:20260620T120000
DTEND;TZID=America/New_York:20260620T170000
DTSTAMP:20260420T111440Z
URL:https://gpraise.com/events/women-of-god-in-unity-working-together-conf
 erence-3/
SUMMARY:WOMEN OF GOD in UNITY Working Together Conference
DESCRIPTION:4 Anointed WOMEN speaking about issues concerning the world.  
 Solo.artist. Laconnetta Richardson.  2 Major Gospel Artist NAOMI. JOY AND
  THOMAS  WARE AND SPECIAL GUEST. KEVIN. WAYNE JOHNSON
ATTACH;FMTTYPE=image/jpeg:https://gpraise.com/wp-content/uploads/2026/04/W
 ix-Social-Share_WOGIUWT_Women-of-God-in-Unity-Working-Together-2026-v5-2-1
 .png
CATEGORIES:Events
END:VEVENT
BEGIN:VTIMEZONE
TZID:America/New_York
X-LIC-LOCATION:America/New_York
BEGIN:DAYLIGHT
DTSTART:20260308T030000
TZOFFSETFROM:-0500
TZOFFSETTO:-0400
TZNAME:EDT
END:DAYLIGHT
END:VTIMEZONE
END:VCALENDAR